BEGIN:VCALENDAR
VERSION:2.0
PRODID:-//Department Of Education//eea97d8c-d127-4b4c-8efb-a178f6872444
BEGIN:VTIMEZONE
TZID:Australia/Sydney
TZURL:http://tzurl.org/zoneinfo-outlook/Australia/Sydney
X-LIC-LOCATION:Australia/Sydney
BEGIN:STANDARD
TZOFFSETFROM:+1100
TZOFFSETTO:+1000
TZNAME:AEST
DTSTART:19700405T030000
RRULE:FREQ=YEARLY;BYMONTH=4;BYDAY=1SU
END:STANDARD
BEGIN:DAYLIGHT
TZOFFSETFROM:+1000
TZOFFSETTO:+1100
TZNAME:AEDT
DTSTART:19701004T020000
RRULE:FREQ=YEARLY;BYMONTH=10;BYDAY=1SU
END:DAYLIGHT
END:VTIMEZONE
CALSCALE:GREGORIAN
X-WR-TIMEZONE:Australia/Sydney
BEGIN:VEVENT
DTSTART;VALUE=DATE:20200408
DTEND;VALUE=DATE:20200409
DTSTAMP:20200408T000000Z
UID:11ff740a-fe32-4713-8720-85ff71d5309e
LOCATION:School Grounds
SUMMARY;LANGUAGE=en-us:Cross Country
SEQUENCE:0
DESCRIPTION:OPS Annual Cross Country
END:VEVENT
TRANSP:TRANSPARENT
END:VCALENDAR
